BEGIN:VCALENDAR
VERSION:2.0
PRODID:-//Plone.org//NONSGML plone.app.event//EN
X-WR-TIMEZONE:Europe/Rome
BEGIN:VEVENT
SUMMARY:I Giocovedì della Biblioteca
DTSTART;TZID=Europe/Rome:20251211T163000
DTEND;TZID=Europe/Rome:20260514T170000
DTSTAMP:20260421T081810Z
UID:8359e12ce2be424a8a14023b2040b588@www.comune.santilariodenza.re.it
CREATED:20251121T105231Z
DESCRIPTION:Giochi da tavolo per bambini/e dai 6 ai 10 anni
LAST-MODIFIED:20260226T121809Z
URL:http://www.comune.santilariodenza.re.it/Plone/vivere-silario-e-calerno
 /eventi/i-giocovedi-della-biblioteca
END:VEVENT
BEGIN:VEVENT
SUMMARY:Gruppo di Lettura ragazzi/e (11-15 anni)
DTSTART;TZID=Europe/Rome:20260116T151500
DTEND;TZID=Europe/Rome:20260515T164500
DTSTAMP:20260421T081810Z
UID:a555e1dfc4b14e26a39609e29348bbd2@www.comune.santilariodenza.re.it
CREATED:20260109T105239Z
DESCRIPTION:Incontri in Biblioteca per parlare di libri\, fumetti\, serie 
 tv
LAST-MODIFIED:20260226T122011Z
URL:http://www.comune.santilariodenza.re.it/Plone/vivere-silario-e-calerno
 /eventi/gruppo-di-lettura-ragazzi-e-11-15-anni
END:VEVENT
BEGIN:VEVENT
SUMMARY:Gruppo di Lettura adulti
DTSTART;TZID=Europe/Rome:20260423T183000
DTEND;TZID=Europe/Rome:20260423T193000
DTSTAMP:20260421T081810Z
UID:9f4bd807f44d4b51b17887a96a02381d@www.comune.santilariodenza.re.it
CREATED:20260306T100403Z
DESCRIPTION:Appuntamento in Biblioteca con "Le assaggiatrici" di Rosella P
 ostorino
LAST-MODIFIED:20260314T092406Z
URL:http://www.comune.santilariodenza.re.it/Plone/vivere-silario-e-calerno
 /eventi/gruppo-di-lettura-adulti
END:VEVENT
BEGIN:VEVENT
SUMMARY:"La più bella": incontro con Luca Sommi
DTSTART;TZID=Europe/Rome:20260427T183000
DTEND;TZID=Europe/Rome:20260427T200000
DTSTAMP:20260421T081810Z
UID:3c4146c1f8d543d9ae0067ce5fa83be7@www.comune.santilariodenza.re.it
CATEGORIES:Altre news HP
CREATED:20260417T114454Z
DESCRIPTION:Il giornalista e scrittore in piazza a S.Ilario per parlare di
  Costituzione e Resistenza.
LAST-MODIFIED:20260417T114515Z
URL:http://www.comune.santilariodenza.re.it/Plone/vivere-silario-e-calerno
 /eventi/la-piu-bella-incontro-con-luca-sommi
END:VEVENT
BEGIN:VEVENT
SUMMARY:Liberi Libri in Biblioteca
DTSTART;TZID=Europe/Rome:20260509T160000
DTEND;TZID=Europe/Rome:20260510T200000
DTSTAMP:20260421T081810Z
UID:e1b62033a298441fa10fad0933beba2b@www.comune.santilariodenza.re.it
CREATED:20260414T065616Z
DESCRIPTION:Seconda edizione del festival dedicato a libri e lettori. Tra 
 gli ospiti Sarah Savioli e Giulio Carlo Pantalei.
LAST-MODIFIED:20260414T065732Z
URL:http://www.comune.santilariodenza.re.it/Plone/vivere-silario-e-calerno
 /eventi/liberi-libri-in-biblioteca
END:VEVENT
BEGIN:VTIMEZONE
TZID:Europe/Rome
X-LIC-LOCATION:Europe/Rome
BEGIN:STANDARD
DTSTART:20251026T020000
TZNAME:CET
TZOFFSETFROM:+0200
TZOFFSETTO:+0100
END:STANDARD
BEGIN:DAYLIGHT
DTSTART:20260329T030000
TZNAME:CEST
TZOFFSETFROM:+0100
TZOFFSETTO:+0200
END:DAYLIGHT
END:VTIMEZONE
END:VCALENDAR
